BEGIN:VCALENDAR
VERSION:2.0
PRODID:-//ChamberMaster//Event Calendar 2.0//EN
METHOD:PUBLISH
X-PUBLISHED-TTL:P3D
REFRESH-INTERVAL:P3D
CALSCALE:GREGORIAN
BEGIN:VEVENT
DTSTART:20221215T010000Z
DTEND:20221215T040000Z
X-MICROSOFT-CDO-ALLDAYEVENT:FALSE
SUMMARY:Ugly Sweater Party & Toy Drive
DESCRIPTION:Pull out your ugly sweater for this networking mixer and toy drive benefiting San Diego foster youth!\n\nSan Diego based organizations\, Black Tech Link \, San Diego Urban League Young Professionals\, and San Diego Black Professionals have partnered with the Peoples Association of Justice Advocates (PAJA) to host a holiday toy/gift drive that will benefit foster youth ages 0-17 during the 2022 holiday season. On Wednesday December 14th\, Black Tech Link joins PAJA to spread cheer and holiday spirit to the most vulnerable communities within San Diego.\n\nBlack Tech Link invites you to attend our Ugly Sweater Party & Toy Drive at the Cart  Hotel where we will highlight community leaders that have supported San Diego's most critical communities. Come and celebrate the season of giving while enjoying music\, appetizers\, cocktails\, and networking with professionals and entrepreneurs. Attendees are encouraged to bring an unwrapped present or gift to be entered into a holiday raffle for a chance to win a 1 night stay at the Cart  Hotel!\n\nGeneral Admission is $35. Event runs from 5:00PM - 8:00PM. Valet/Street Parking. Special Guest Speaker TBA!\n\n\n\nTo get tickets visit https://uglysweater-toydrive.eventbrite.com \n\nWe appreciate your support!
X-ALT-DESC;FMTTYPE=text/html:<h2 style="font-style:italic\;"><strong>Pull out your ugly sweater for this networking mixer and toy drive benefiting San Diego foster youth!</strong></h2>\n\n<h3>San Diego based organizations\,<a href="https://blacktechlink.org/" rel="nofollow noopener noreferrer" style="text-decoration-line: none\; color: var(--eds-control\,#3659e3)\; cursor: pointer\; background-color: transparent\; box-sizing: border-box\; padding-top: 0px\;" target="_blank">&nbsp\;Black Tech Link</a>&nbsp\;\,&nbsp\;<a href="https://sdulyp.org/" rel="nofollow noopener noreferrer" style="text-decoration-line: none\; color: var(--eds-control\,#3659e3)\; cursor: pointer\; background-color: transparent\; box-sizing: border-box\;" target="_blank">San Diego Urban League Young Professionals</a>\, and San Diego Black Professionals have partnered with the&nbsp\;<a href="https://pajmovement.org/" rel="nofollow noopener noreferrer" style="text-decoration-line: none\; color: var(--eds-control\,#3659e3)\; cursor: pointer\; background-color: transparent\; box-sizing: border-box\;" target="_blank">Peoples Association of Justice Advocates</a>&nbsp\;(PAJA) to host a holiday toy/gift drive that will benefit foster youth ages 0-17 during the 2022 holiday season. On Wednesday December 14th\, Black Tech Link joins PAJA to spread cheer and holiday spirit to the most vulnerable communities within San Diego.</h3>\n\n<p>Black Tech Link invites you to attend our&nbsp\;<em><strong>Ugly Sweater Party &amp\; Toy Drive&nbsp\;</strong></em>at the&nbsp\;<em><strong>Cart&eacute\; Hotel</strong></em>&nbsp\;where we will highlight community leaders that have supported San Diego&#39\;s most critical communities. Come and celebrate the season of giving while enjoying music\, appetizers\, cocktails\, and networking with professionals and entrepreneurs.<em><strong>&nbsp\;Attendees are encouraged to bring an unwrapped present or gift to be entered into a holiday raffle for a chance to win a 1 night stay at the Cart&eacute\; Hotel!</strong></em></p>\n\n<p><strong>General Admission is $35. Event runs from 5:00PM - 8:00PM. Valet/Street Parking. Special Guest Speaker TBA!<br />\n<br />\nTo get tickets visit&nbsp\;</strong><a href="https://uglysweater-toydrive.eventbrite.com" style="text-decoration-line: none\;"><span style="background-color:transparent\; color:rgb(17\, 85\, 204)\; font-family:arial\; font-size:11pt">https://uglysweater-toydrive.eventbrite.com</span></a><span style="background-color:transparent\; color:rgb(0\, 0\, 0)\; font-family:arial\; font-size:11pt"> </span></p>\n\n<div>We appreciate your support!</div>\n\n<div style="margin-left:0px\; margin-right:0px">\n<div style="margin-left:0px\; margin-right:0px">&nbsp\;</div>\n</div>\n
LOCATION:Cart Hotel 410 W Ash Street Amici Room San Diego\, CA 92101
UID:e.3024.985
SEQUENCE:3
DTSTAMP:20260422T221413Z
URL:https://business.sdblackchamber.org/events/details/ugly-sweater-party-toy-drive-985
END:VEVENT

END:VCALENDAR
