BEGIN:VCALENDAR
VERSION:2.0
PRODID:-//ChamberMaster//Event Calendar 2.0//EN
METHOD:PUBLISH
X-PUBLISHED-TTL:P3D
REFRESH-INTERVAL:P3D
CALSCALE:GREGORIAN
BEGIN:VEVENT
DTSTART;VALUE=DATE:20221211
DTEND;VALUE=DATE:20221212
TRANSP:TRANSPARENT
X-MICROSOFT-CDO-ALLDAYEVENT:TRUE
SUMMARY:SOLO EXHIBITION: "REVERENCE" Artist Reception
DESCRIPTION:CURRENT EXHIBITIONS\n\n\n \n\n\n\n\n\nDuke Windsor:\n\nReverence\n\n\nOPENED:\n\nOCTOBER 16\, 2022\n\n \n \n\nON VIEW THROUGH:\n\nDECEMBER 30\, 2022\n\nLink:\n\nARTWORK: DUKE WINDSOR: REVERENCE\n\nat the SPARKS GALLERY
X-ALT-DESC;FMTTYPE=text/html:&nbsp\;\n<div class="grid-row title" data-t="1" font-size:="" new="" style="box-sizing: inherit\; display: flex\; color: rgb(55\, 49\, 49)\; font-family: " times="">\n<div class="grid--archive__left align-right align-left-small full-width-small uppercase" style="box-sizing: content-box\; text-align: right\; text-transform: uppercase\; max-width: 320px\; flex-shrink: 0\; padding-right: 40px\; min-width: 290px\; width: calc(25% - 31px)\;">\n<h1 style="box-sizing: inherit\; font-family: schoolbook\, serif\; font-style: italic\; font-size: 36px\; line-height: 1.17\; margin: 0px 0px 20px\; overflow-wrap: unset\;">CURRENT EXHIBITIONS</h1>\n</div>\n\n<div class="grid--archive__right" style="box-sizing: inherit\; width: 1041px\;">&nbsp\;</div>\n</div>\n\n<section font-size:="" id="current" new="" style="box-sizing: inherit\; color: rgb(55\, 49\, 49)\; font-family: " times="">\n<article class="grid-row blog blog-preview slider-row" style="box-sizing: inherit\; display: flex\; margin-bottom: 60px\;">\n<div class="grid--archive__left align-right align-left-small" style="box-sizing: content-box\; text-align: right\; max-width: 320px\; flex-shrink: 0\; padding-right: 40px\; min-width: 290px\; width: calc(25% - 31px)\; margin-right: 0px\; background-image: initial\; background-position: initial\; background-size: initial\; background-repeat: initial\; background-attachment: initial\; background-origin: initial\; background-clip: initial\; position: relative\;">\n<h1 class="h3" style="box-sizing: inherit\; font-family: schoolbook\, serif\; font-style: italic\; font-size: 26px\; line-height: 1.08\; margin: 0px 0px 20px\; overflow-wrap: unset\; z-index: 2\; position: relative\;">Duke Windsor:<br />\nReverence</h1>\n\n<div class="event-meta" style="box-sizing: inherit\; z-index: 2\; position: relative\;">\n<p class="uppercase italic" style="box-sizing: inherit\; font-family: schoolbook\, serif\; font-style: italic\; color: inherit\; line-height: 1.3\; margin: 0px\; text-transform: uppercase\;">OPENED:</p>\n\n<p class="uppercase italic" style="box-sizing: inherit\; font-family: schoolbook\, serif\; font-style: italic\; color: inherit\; line-height: 1.3\; margin: 0px\; text-transform: uppercase\;">OCTOBER 16\, 2022<br />\n&nbsp\;</p>\n&nbsp\;\n\n<p class="uppercase italic" style="box-sizing: inherit\; font-family: schoolbook\, serif\; font-style: italic\; color: inherit\; line-height: 1.3\; margin: 0px\; text-transform: uppercase\;">ON VIEW THROUGH:</p>\n\n<p class="uppercase italic" style="box-sizing: inherit\; font-family: schoolbook\, serif\; font-style: italic\; color: inherit\; line-height: 1.3\; margin: 0px 0px 20px\; text-transform: uppercase\;">DECEMBER 30\, 2022</p>\n\n<p class="uppercase italic" style="box-sizing: inherit\; font-family: schoolbook\, serif\; font-style: italic\; color: inherit\; line-height: 1.3\; margin: 0px 0px 20px\; text-transform: uppercase\; text-align: left\;">Link:<br style="color: rgb(55\, 49\, 49)\; font-family: schoolbook\, serif\; font-size: 16px\; font-style: italic\; text-align: right\; text-transform: uppercase\;" />\n<a href="https://sparksgallery.com/product-category/gallery-exhibitions/duke-windsor-reverence" style="font-family: schoolbook\, serif\; font-size: 16px\; font-style: italic\; text-align: right\; text-transform: uppercase\;">ARTWORK: DUKE WINDSOR: REVERENCE<br />\nat the SPARKS GALLERY</a></p>\n</div>\n</div>\n</article>\n</section>\n
LOCATION:
UID:e.3024.979
SEQUENCE:3
DTSTAMP:20260422T221337Z
URL:https://business.sdblackchamber.org/events/details/solo-exhibition-reverence-artist-reception-12-11-2022-979
END:VEVENT

END:VCALENDAR
