BEGIN:VCALENDAR
VERSION:2.0
PRODID:-//ChamberMaster//Event Calendar 2.0//EN
METHOD:PUBLISH
X-PUBLISHED-TTL:P3D
REFRESH-INTERVAL:P3D
CALSCALE:GREGORIAN
BEGIN:VEVENT
DTSTART:20230609T160000Z
DTEND:20230609T210000Z
X-MICROSOFT-CDO-ALLDAYEVENT:FALSE
SUMMARY:SHE Means Business
DESCRIPTION:The SHE Means Business program provides female leaders with essential knowledge and resources to help their businesses thrive.\n\n\n\nOur instructors are experienced businesswomen who are passionate about building the next generation of women entrepreneurs. They offer a distinct perspective and insight on how to lift up your business to the next level.\n\n\n\nThis summit focuses on the unique experience of being a woman in business\, and explores topics such as goal-setting\, financial literacy\, digital marketing\, and more!\n\n\n\nThe SHE Means Business program consists of four in-person sessions from 9AM-2PM with a networking lunch included.\n\n\n\nRegister: https://sdblackchamber.org/she-means-business/
X-ALT-DESC;FMTTYPE=text/html:<span style="color: rgb(27\, 28\, 37)\; font-family: &quot\;Open Sans&quot\;\; font-size: 18px\;">The SHE Means Business program provides female leaders with essential knowledge and resources to help their businesses thrive.</span><br style="box-sizing: inherit\; color: rgb(27\, 28\, 37)\; font-family: &quot\;Open Sans&quot\;\; font-size: 18px\;" />\n<br style="box-sizing: inherit\; color: rgb(27\, 28\, 37)\; font-family: &quot\;Open Sans&quot\;\; font-size: 18px\;" />\n<span style="color: rgb(27\, 28\, 37)\; font-family: &quot\;Open Sans&quot\;\; font-size: 18px\;">Our instructors are experienced businesswomen who are passionate about building the next generation of women entrepreneurs. They offer a distinct perspective and insight on how to lift up your business to the next level.</span><br style="box-sizing: inherit\; color: rgb(27\, 28\, 37)\; font-family: &quot\;Open Sans&quot\;\; font-size: 18px\;" />\n<br style="box-sizing: inherit\; color: rgb(27\, 28\, 37)\; font-family: &quot\;Open Sans&quot\;\; font-size: 18px\;" />\n<span style="color: rgb(27\, 28\, 37)\; font-family: &quot\;Open Sans&quot\;\; font-size: 18px\;">This summit focuses on the unique experience of being a woman in business\, and explores topics such as goal-setting\, financial literacy\, digital marketing\, and more!</span><br style="box-sizing: inherit\; color: rgb(27\, 28\, 37)\; font-family: &quot\;Open Sans&quot\;\; font-size: 18px\;" />\n<br style="box-sizing: inherit\; color: rgb(27\, 28\, 37)\; font-family: &quot\;Open Sans&quot\;\; font-size: 18px\;" />\n<span style="color: rgb(27\, 28\, 37)\; font-family: &quot\;Open Sans&quot\;\; font-size: 18px\;">The SHE Means Business program consists of four in-person sessions from 9AM-2PM with a networking lunch included.<br />\n<br />\nRegister:&nbsp\;</span>https://sdblackchamber.org/she-means-business/
LOCATION:UCSD Park & Market 1100 Market St San Diego\, CA 92101
UID:e.3024.1207
SEQUENCE:3
DTSTAMP:20260422T123939Z
URL:https://business.sdblackchamber.org/events/details/she-means-business-1207
END:VEVENT

END:VCALENDAR
