BEGIN:VCALENDAR
VERSION:2.0
PRODID:-//ChamberMaster//Event Calendar 2.0//EN
METHOD:PUBLISH
X-PUBLISHED-TTL:P3D
REFRESH-INTERVAL:P3D
CALSCALE:GREGORIAN
BEGIN:VEVENT
DTSTART:20240215T190000Z
DTEND:20240215T200000Z
X-MICROSOFT-CDO-ALLDAYEVENT:FALSE
SUMMARY:San Diego Rotary Club #33 - Prospective New Member Reception
DESCRIPTION:San Diego Rotary Club #33 is hosting its first Prospective New Member Reception of 2024 on Thursday\, February 15. As the thirty-third oldest and tenth largest Rotary Club in the world\, this is a great opportunity to learn more about our mission and impact. Please take thirty seconds to RSVP below: The program will feature Lorie Hearn\, founder\, CEO\, and editor of inewsource\, and Steve Breen\, a two-time Pulitzer Prize winner. They will discuss data-based\, fact-checked investigative and accountability reporting and showcase some of Steve's award-winning work. I've been a Club #33 member since 1994 and am honored to be serving as the club's 113th President this year. Take this chance to learn more about us and our contributions to the San Diego region. I will miss you if you can't attend on Thursday! Michael Brunker\, President
X-ALT-DESC;FMTTYPE=text/html:San Diego Rotary Club #33 is hosting its first Prospective New Member Reception of 2024 on Thursday\, February 15. As the thirty-third oldest and tenth largest Rotary Club in the world\, this is a great opportunity to learn more about our mission and impact. Please take thirty seconds to RSVP below: The program will feature Lorie Hearn\, founder\, CEO\, and editor of inewsource\, and Steve Breen\, a two-time Pulitzer Prize winner. They will discuss data-based\, fact-checked investigative and accountability reporting and showcase some of Steve&#39\;s award-winning work. I&#39\;ve been a Club #33 member since 1994 and am honored to be serving as the club&#39\;s 113th President this year. Take this chance to learn more about us and our contributions to the San Diego region. I will miss you if you can&#39\;t attend on Thursday! Michael Brunker\, President
LOCATION:Liberty Station Conference Center 2600 Laning Rd\, San Diego\, CA 92106
UID:e.3024.1233
SEQUENCE:3
DTSTAMP:20260423T013233Z
URL:https://business.sdblackchamber.org/events/details/san-diego-rotary-club-33-prospective-new-member-reception-1233
END:VEVENT

END:VCALENDAR
