BEGIN:VCALENDAR
VERSION:2.0
PRODID:-//ChamberMaster//Event Calendar 2.0//EN
METHOD:PUBLISH
X-PUBLISHED-TTL:P3D
REFRESH-INTERVAL:P3D
CALSCALE:GREGORIAN
BEGIN:VEVENT
DTSTART:20210917T023000Z
DTEND:20210917T033000Z
X-MICROSOFT-CDO-ALLDAYEVENT:FALSE
SUMMARY:Office Hours for the City of San Diego Relief Grant
DESCRIPTION:Office hours to discuss the City Grant funding process and to provide technical assistance. \n\n\n\nZoom Meeting Link:\n\nhttps://us06web.zoom.us/j/89911915402?pwd=bkNTNGh1bkhkZU8wQjMrczRaYnpUdz09\n\n\n\nMeeting ID: 814 5881 5670 Passcode: 417772\n\nOne tap mobile: +16699006833\,\,81458815670# US (San Jose)\n\n Dial by your location: +1 669 900 6833 US (San Jose)
X-ALT-DESC;FMTTYPE=text/html:<p>Office hours to discuss the City Grant funding process and to provide technical assistance.&nbsp\;<br />\n<br />\n<span background-color:="" font-size:="" helvetica="" style="color: rgb(46\, 51\, 56)\; font-family: Whitney\, " white-space:="">Zoom Meeting Link:</span><br />\n<a data-saferedirecturl="https://www.google.com/url?q=https://us06web.zoom.us/j/89911915402?pwd%3DbkNTNGh1bkhkZU8wQjMrczRaYnpUdz09&amp\;source=gmail&amp\;ust=1630466744094000&amp\;usg=AFQjCNF9KjhMxV7NjJpzUSZWO17amiXWWA" href="https://us06web.zoom.us/j/89911915402?pwd=bkNTNGh1bkhkZU8wQjMrczRaYnpUdz09" style="color: rgb(17\, 85\, 204)\; font-family: Arial\, Helvetica\, sans-serif\; font-size: small\;" target="_blank">https://us06web.zoom.us/j/<wbr />89911915402?pwd=<wbr />bkNTNGh1bkhkZU8wQjMrczRaYnpUdz<wbr />09</a><br />\n<br />\n<span background-color:="" font-size:="" helvetica="" style="color: rgb(46\, 51\, 56)\; font-family: Whitney\, " white-space:="">Meeting ID: 814 5881 5670 Passcode: 417772<br />\nOne tap mobile: +16699006833\,\,81458815670# US (San Jose)<br />\n&#8203\;</span><span background-color:="" font-size:="" helvetica="" style="color: rgb(46\, 51\, 56)\; font-family: Whitney\, " white-space:="">Dial by your location: +1 669 900 6833 US (San Jose)</span></p>\n
LOCATION:Virtual Meeting (Zoom)
UID:e.3024.189
SEQUENCE:3
DTSTAMP:20260423T002606Z
URL:https://business.sdblackchamber.org/events/details/office-hours-for-the-city-of-san-diego-relief-grant-09-16-2021-189
END:VEVENT

END:VCALENDAR
