BEGIN:VCALENDAR
VERSION:2.0
PRODID:-//ChamberMaster//Event Calendar 2.0//EN
METHOD:PUBLISH
X-PUBLISHED-TTL:P3D
REFRESH-INTERVAL:P3D
CALSCALE:GREGORIAN
BEGIN:VEVENT
DTSTART:20250605T233000Z
DTEND:20250606T010000Z
X-MICROSOFT-CDO-ALLDAYEVENT:FALSE
SUMMARY:Members Annual Meeting 2025
DESCRIPTION:Join us for our annual Member Meeting! This is an opportunity to hear about the many benefits we offer to our members with the mission of supporting their many business ventures.\n\n\n\nThere will be delicious food and opportunities to network with the business world of the Black Chamber.\n\n\n\nFeel free to register on this page and we can't wait to see you!
X-ALT-DESC;FMTTYPE=text/html:<span style="font-size:20px\;">Join us for our annual Member Meeting! This is an opportunity to hear about the many benefits we offer to our members with the mission of supporting their many business ventures.<br />\n<br />\nThere will be delicious food and opportunities to network with the business world of the Black Chamber.<br />\n<br />\nFeel free to register on this page and we can&#39\;t wait to see you!</span><br />\n&nbsp\;
LOCATION:The meeting will be held at the The Block Club The address is 6403 Imperial Ave. San Diego\, CA 92114.
UID:e.3024.1271
SEQUENCE:3
DTSTAMP:20260424T040037Z
URL:https://business.sdblackchamber.org/events/details/members-annual-meeting-2025-1271
END:VEVENT

END:VCALENDAR
