BEGIN:VCALENDAR
VERSION:2.0
PRODID:-//ChamberMaster//Event Calendar 2.0//EN
METHOD:PUBLISH
X-PUBLISHED-TTL:P3D
REFRESH-INTERVAL:P3D
CALSCALE:GREGORIAN
BEGIN:VEVENT
DTSTART:20221202T200000Z
DTEND:20221203T000000Z
X-MICROSOFT-CDO-ALLDAYEVENT:FALSE
SUMMARY:Manchester Grand Hyatt San Diego Diversity Expo
DESCRIPTION:The Manchester Grand Hyatt will be hosting a Diversity Expo on December 2nd to showcase Minority Owned Businesses to the Community\, and our sister properties in Southern California. We are hoping for businesses for food\, beverage\, retail\, handy work\, etc.\n\n\n\nYou are formally invited to participate in this expo. This will give you the opportunity to showcase your products and services to Hyatt managers responsible for purchasing and buying decisions at 20+ Hyatt properties located within Southern California. We are hoping for roughly about 100 vendors as we want this to be meaningful to all involved.\n\n\n\nThe expo will be held on Friday\, December 2\, 2022 from 12:00 to 4:00 PM at Manchester Grand Hyatt San Diego (Grand Hall AB). Contact event organizers for more information.\n\n\n\nAdditional Information:\n\n	Self-parking will be provided complimentary with validation for all participants\n	6' tables will be provided complimentary for each business\n	Businesses are encouraged to bring samples\, demos and/or marketing collateral of their products and services\n	Small canopies and booth setups are acceptable with logoed signage and props\n	Bring business cards for distribution\n	Setup for all expo vendors is 10:00 to 11:30AM on December 2nd for a noon start time.\n	If kitchen space\, storage or refrigeration is required\, please contact Executive Sous Chef\,  Robert Gunn by November 15\, 2022 for assistance (robert.gunn@hyatt.com). \n	Discounted hotel accommodations are available to all event attendees at $109 plus per night from December 1-3\, 2022. Please book your room using this link.
X-ALT-DESC;FMTTYPE=text/html:The Manchester Grand Hyatt will be hosting a Diversity Expo on December 2nd to showcase Minority Owned Businesses to the Community\, and our sister properties in Southern California. We are hoping for businesses for food\, beverage\, retail\, handy work\, etc.<br />\n<br />\nYou are formally invited to participate in this expo. This will give you the opportunity to showcase your products and services to Hyatt managers responsible for purchasing and buying decisions at 20+ Hyatt properties located within Southern California. We are hoping for roughly about 100 vendors as we want this to be meaningful to all involved.<br />\n<br />\nThe expo will be held on Friday\, December 2\, 2022 from 12:00 to 4:00 PM at Manchester Grand Hyatt San Diego (Grand Hall AB). Contact event organizers for <a href="https://chambermaster.blob.core.windows.net/userfiles/UserFiles/chambers/3024/File/SoCalHyattDiversityExpoLetter.pdf" target="_blank">more information</a>.<br />\n<br />\nAdditional Information:\n<ul>\n	<li>Self-parking will be provided complimentary with validation for all participants</li>\n	<li>6&rsquo\; tables will be provided complimentary for each business</li>\n	<li>Businesses are encouraged to bring samples\, demos and/or marketing collateral of their products and services</li>\n	<li>Small canopies and booth setups are acceptable with logoed signage and props</li>\n	<li>Bring business cards for distribution</li>\n	<li>Setup for all expo vendors is 10:00 to 11:30AM on December 2nd for a noon start time.</li>\n	<li>If kitchen space\, storage or refrigeration is required\, please contact Executive Sous Chef\,&nbsp\; Robert Gunn by November 15\, 2022 for assistance (robert.gunn@hyatt.com).&nbsp\;</li>\n	<li>Discounted hotel accommodations are available to all event attendees at $109 plus per&nbsp\;night from December 1-3\, 2022. Please book your room using this <a href="http://https://www.hyatt.com/en-US/group-booking/SANRS/G-DEXP">link</a>.</li>\n</ul>\n
LOCATION:
UID:e.3024.984
SEQUENCE:3
DTSTAMP:20260422T220933Z
URL:https://business.sdblackchamber.org/events/details/manchester-grand-hyatt-san-diego-diversity-expo-984
END:VEVENT

END:VCALENDAR
