BEGIN:VCALENDAR
VERSION:2.0
PRODID:-//ChamberMaster//Event Calendar 2.0//EN
METHOD:PUBLISH
X-PUBLISHED-TTL:P3D
REFRESH-INTERVAL:P3D
CALSCALE:GREGORIAN
BEGIN:VEVENT
DTSTART:20260207T200000Z
DTEND:20260207T220000Z
X-MICROSOFT-CDO-ALLDAYEVENT:FALSE
SUMMARY:Iron Sharpens Iron: Plant Your Intentions Womens Networking Event
DESCRIPTION:Expand your circle and open the door to new opportunities at this exclusive outdoor networking event! Join The County of San Diego Black Chamber of Commerce\, Black Women Adventures Inc.\, Thrive As One Consulting\, and Blk Girls Who Garden for a powerful afternoon of connection\, inspiration\, and intention-setting.\n\n Agenda\n\n  Introductions of businesses\n\n  Reflection & discussion on the past year\n\n  Setting intentions for 2026\n\n  Hands-on plant activity\n\n  Emerging Leaders build-out\n\nIRON SHARPENS IRON is an initiative designed for Black women entrepreneurs to grow\, elevate\, and thrive through connection\, community\, health\, and wellness. Powered by Black Women Adventures\, Thrive As One Consulting\, and the County of San Diego Black Chamber of Commerce. Come plant new ideas\, nurture new relationships\, and leave inspired.
X-ALT-DESC;FMTTYPE=text/html:<span style="font-size:22px\;"><span style="font-family:times new roman\;"><span background-color:="" font-size:="" segoe="">Expand your circle and open the door to new opportunities at this exclusive outdoor networking event!&nbsp\;</span><span background-color:="" font-size:="" segoe="">Join The County of San Diego Black Chamber of Commerce\, Black Women Adventures Inc.\, Thrive As One Consulting\, and Blk Girls Who Garden for a powerful afternoon of connection\, inspiration\, and intention-setting.</span><br />\n&nbsp\;Agenda<br />\n&bull\; Introductions of businesses<br style="color: rgb(248\, 249\, 249)\; font-family: -apple-system\, &quot\;system-ui&quot\;\, &quot\;Segoe UI&quot\;\, Roboto\, Helvetica\, Arial\, sans-serif\; font-size: 14px\; background-color: rgb(33\, 35\, 40)\;" />\n&bull\; Reflection &amp\; discussion on the past year<br style="color: rgb(248\, 249\, 249)\; font-family: -apple-system\, &quot\;system-ui&quot\;\, &quot\;Segoe UI&quot\;\, Roboto\, Helvetica\, Arial\, sans-serif\; font-size: 14px\; background-color: rgb(33\, 35\, 40)\;" />\n&bull\; Setting intentions for 2026<br style="color: rgb(248\, 249\, 249)\; font-family: -apple-system\, &quot\;system-ui&quot\;\, &quot\;Segoe UI&quot\;\, Roboto\, Helvetica\, Arial\, sans-serif\; font-size: 14px\; background-color: rgb(33\, 35\, 40)\;" />\n&bull\; Hands-on plant activity<br style="color: rgb(248\, 249\, 249)\; font-family: -apple-system\, &quot\;system-ui&quot\;\, &quot\;Segoe UI&quot\;\, Roboto\, Helvetica\, Arial\, sans-serif\; font-size: 14px\; background-color: rgb(33\, 35\, 40)\;" />\n&bull\; Emerging Leaders build-out<br style="color: rgb(248\, 249\, 249)\; font-family: -apple-system\, &quot\;system-ui&quot\;\, &quot\;Segoe UI&quot\;\, Roboto\, Helvetica\, Arial\, sans-serif\; font-size: 14px\; background-color: rgb(33\, 35\, 40)\;" />\nIRON SHARPENS IRON is an initiative designed for Black women entrepreneurs to grow\, elevate\, and thrive through connection\, community\, health\, and wellness. Powered by Black Women Adventures\, Thrive As One Consulting\, and the County of San Diego Black Chamber of Commerce. Come plant new ideas\, nurture new relationships\, and leave inspired.&nbsp\;</span></span>
LOCATION:The event will be held at Civita Park in Mission Valley. The address is 7960 Civita BLVD\, San Diego\, CA 92108. Click Here for Directions
UID:e.3024.1297
SEQUENCE:3
DTSTAMP:20260423T170152Z
URL:https://business.sdblackchamber.org/events/details/iron-sharpens-iron-plant-your-intentions-womens-networking-event-1297
END:VEVENT

END:VCALENDAR
