BEGIN:VCALENDAR
VERSION:2.0
PRODID:-//ChamberMaster//Event Calendar 2.0//EN
METHOD:PUBLISH
X-PUBLISHED-TTL:P3D
REFRESH-INTERVAL:P3D
CALSCALE:GREGORIAN
BEGIN:VEVENT
DTSTART:20250918T000000Z
DTEND:20250918T020000Z
X-MICROSOFT-CDO-ALLDAYEVENT:FALSE
SUMMARY:Hispanic Heritage Mixer
DESCRIPTION:The DIAMOND BID & JACOBS Center Invite you to our Hispanic Heritage Social Mixer!\n\nCome join us for an evening of fun as we celebrate Hispanic Heritage month with a mariachi band\, Food from El Paisa Tacos\, and a raffle to win some cool prizes! Bring the family\, friends\, and even coworkers who would like to come and network in one of our districts most primetime spots.\n\nClick Here to register for the event!
X-ALT-DESC;FMTTYPE=text/html:<p><strong><span style="font-size:24px\;">The DIAMOND BID &amp\; JACOBS Center Invite you to our Hispanic Heritage Social Mixer!</span></strong></p>\n\n<p><strong><span style="font-size:24px\;">Come join us for an evening of fun as we celebrate Hispanic Heritage month with a mariachi band\, Food from El Paisa Tacos\, and a raffle to win some cool prizes! Bring the family\, friends\, and even coworkers who would like to come and network in one of our districts most primetime spots.</span></strong></p>\n\n<p><span style="font-size:36px\;"><strong><a href="https://diamondbid.org/4215-2/">Click Here to register for the event!</a></strong></span></p>\n
LOCATION:Location: The event will be held at Market Creek Plaza- Festival Park. The Address is 336 Euclid Ave\, San Diego\, CA 92114
UID:e.3024.1289
SEQUENCE:3
DTSTAMP:20260424T005143Z
URL:https://business.sdblackchamber.org/events/details/hispanic-heritage-mixer-1289
END:VEVENT

END:VCALENDAR
