BEGIN:VCALENDAR
VERSION:2.0
PRODID:-//ChamberMaster//Event Calendar 2.0//EN
METHOD:PUBLISH
X-PUBLISHED-TTL:P3D
REFRESH-INTERVAL:P3D
CALSCALE:GREGORIAN
BEGIN:VEVENT
DTSTART:20250219T020000Z
DTEND:20250219T033000Z
X-MICROSOFT-CDO-ALLDAYEVENT:FALSE
SUMMARY:Diamond Business District Meeting
DESCRIPTION:Calling all Southeastern business owners and community members! The local business improvement district invites you to attend our upcoming Business District February Meeting to connect\, collaborate\, and grow together. Don't miss this opportunity to engage with fellow entrepreneurs and community leaders!
X-ALT-DESC;FMTTYPE=text/html:<span style="font-size:24px\;">Calling all Southeastern business owners and community members! The local business improvement district invites you to attend our upcoming Business District February Meeting to connect\, collaborate\, and grow together. Don&#39\;t miss this opportunity to engage with fellow entrepreneurs and community leaders!</span>
LOCATION:Southeastern Live Well Center | 5101 Market Street\, San Diego\, CA 92114
UID:e.3024.1260
SEQUENCE:3
DTSTAMP:20260423T220015Z
URL:https://business.sdblackchamber.org/events/details/diamond-business-district-meeting-1260
END:VEVENT

END:VCALENDAR
