BEGIN:VCALENDAR
VERSION:2.0
PRODID:-//ChamberMaster//Event Calendar 2.0//EN
METHOD:PUBLISH
X-PUBLISHED-TTL:P3D
REFRESH-INTERVAL:P3D
CALSCALE:GREGORIAN
BEGIN:VEVENT
DTSTART:20250813T010000Z
DTEND:20250813T023000Z
X-MICROSOFT-CDO-ALLDAYEVENT:FALSE
SUMMARY:Diamond BID Monthly Advisory Board Meeting
DESCRIPTION:Come Join us to discuss different   programs and events that are taking place in our district. The meeting is open to the public and all feedback and opinions are welcome from community members to make sure we are building a district everybody loves.\n\n\n\nClick Here for the agenda\n\n\n\nClick here for the  July's Meeting minutes\n\n\n\nClick Here for the Special Advisory Board Meeting Minutes
X-ALT-DESC;FMTTYPE=text/html:Come Join us to discuss different&nbsp\; &nbsp\;programs and events that are taking place in our district. The meeting is open to the public and all feedback and opinions are welcome from community members to make sure we are building a district everybody loves.<br />\n<br />\n<a href="https://docs.google.com/document/d/1o_cJBPoHqn3Xt7c1biZz8IkC3h9dXViX/edit?usp=sharing&amp\;ouid=104304798555360010464&amp\;rtpof=true&amp\;sd=true">Click Here for the agenda</a><br />\n<br />\n<a href="https://docs.google.com/document/d/1tpgJmIb3l1vmE-koImy6Cirzrl4v67XOi0gRqRfn9u8/edit?usp=sharing">Click here for the&nbsp\; July&#39\;s Meeting minutes</a><br />\n<br />\n<a href="https://docs.google.com/document/d/16L7PVKyEj5K4eWe30pv3Qmf9DwSTUjPqyyKixGaa52Y/edit?usp=sharing">Click Here for the Special Advisory Board Meeting Minutes</a>
LOCATION:The meeting will be held at The Block Club. The address is 6403 Imperial Blvd. San Diego \, CA\, 92114.
UID:e.3024.1284
SEQUENCE:3
DTSTAMP:20260424T022610Z
URL:https://business.sdblackchamber.org/events/details/diamond-bid-monthly-advisory-board-meeting-1284
END:VEVENT

END:VCALENDAR
