BEGIN:VCALENDAR
VERSION:2.0
PRODID:-//ChamberMaster//Event Calendar 2.0//EN
METHOD:PUBLISH
X-PUBLISHED-TTL:P3D
REFRESH-INTERVAL:P3D
CALSCALE:GREGORIAN
BEGIN:VEVENT
DTSTART:20250806T010000Z
DTEND:20250806T030000Z
X-MICROSOFT-CDO-ALLDAYEVENT:FALSE
SUMMARY:Diamond Bid Advisory Board Special Meeting
DESCRIPTION:Come join us for our Diamond Business Improvement District Special Advisory board Meeting. Join us in our efforts to discuss different initiatives and programs that are coming to the Business Improvement District.\n\n\n\nClick Here for Agenda
X-ALT-DESC;FMTTYPE=text/html:Come join us for our Diamond Business Improvement District Special Advisory board Meeting. Join us in our efforts to discuss different initiatives and programs that are coming to the Business Improvement District.<br />\n<br />\n<span style="font-size:24px\;"><a href="https://docs.google.com/document/d/1xGQnFDhlLK9PTIgJmLdvZC6uAhvYbQ0J/edit?usp=sharing&amp\;ouid=104304798555360010464&amp\;rtpof=true&amp\;sd=true">Click Here </a>for Agenda</span>
LOCATION:The meeting will be at the Block Club. The address is 6403 Imperial Ave\, San Diego\, CA 92114.
UID:e.3024.1283
SEQUENCE:3
DTSTAMP:20260424T035509Z
URL:https://business.sdblackchamber.org/events/details/diamond-bid-advisory-board-special-meeting-1283
END:VEVENT

END:VCALENDAR
