BEGIN:VCALENDAR
VERSION:2.0
PRODID:-//ChamberMaster//Event Calendar 2.0//EN
METHOD:PUBLISH
X-PUBLISHED-TTL:P3D
REFRESH-INTERVAL:P3D
CALSCALE:GREGORIAN
BEGIN:VEVENT
DTSTART:20260220T020000Z
DTEND:20260220T040000Z
X-MICROSOFT-CDO-ALLDAYEVENT:FALSE
SUMMARY:Diamond B.I.D. Annual Meeting
DESCRIPTION:As the Business Manager for the Diamond Business Improvement District\, it is the County of San Diego Black Chamber of Commerce responsibility to support the small business owners and overall economic development of the district.  This district is home to many under represented business owners  that the CSDBCC looks to support and help succeed. It is also home to the black arts and culture district which is a historic area that celebrates black heritage.  We invite black chamber members who would like to support this initiative to attend the public advisory board meetings.
X-ALT-DESC;FMTTYPE=text/html:<div class="wp-block-stackable-text stk-block-text stk-block stk-b9357c5" data-block-id="b9357c5" style="box-sizing: border-box\; min-height: 0px\; position: relative\; word-break: break-word\; justify-content: normal\; z-index: 1\; margin-block: 0px\; border-style: none\; border-width: 1px\; margin-bottom: 24px\; --stk-columns-spacing: 12px\; margin-top: 0px\; transition: 0.12s cubic-bezier(0.45\, 0.05\, 0.55\, 0.95)\, flex\, max-width\, visibility\; color: rgb(18\, 18\, 18)\; font-family: Inter\, sans-serif\; font-size: 16px\;">\n<p class="stk-block-text__text" style="box-sizing: border-box\; flex: 1 1 0%\; border-style: none\; border-width: 1px\; margin-bottom: 0px\; margin-top: 0px\; font-size: 38px !important\; transition: all 0.12s cubic-bezier(0.45\, 0.05\, 0.55\, 0.95)\, flex\, max-width\, visibility\;">As the Business Manager for the Diamond Business Improvement District\, it is the County of San Diego Black Chamber of Commerce responsibility to support the small business owners and overall economic development of the district.&nbsp\; This district is home to many under represented business owners&nbsp\; that the CSDBCC looks to support and help succeed. It is also home to the black arts and culture district which is a historic area that celebrates black heritage.&nbsp\; We invite black chamber members who would like to support this initiative to attend the public advisory board meetings.&nbsp\;</p>\n</div>\n
LOCATION:The event is at The Block Club Community Center. The address is 6403 Imperial Avenue San Diego\, CA 92113.
UID:e.3024.1298
SEQUENCE:3
DTSTAMP:20260423T170042Z
URL:https://business.sdblackchamber.org/events/details/diamond-b-i-d-annual-meeting-1298
END:VEVENT

END:VCALENDAR
