BEGIN:VCALENDAR
VERSION:2.0
PRODID:-//ChamberMaster//Event Calendar 2.0//EN
METHOD:PUBLISH
X-PUBLISHED-TTL:P3D
REFRESH-INTERVAL:P3D
CALSCALE:GREGORIAN
BEGIN:VEVENT
DTSTART:20230427T010000Z
DTEND:20230427T030000Z
X-MICROSOFT-CDO-ALLDAYEVENT:FALSE
SUMMARY:City of La Mesa Recreation & Parks Master Plan
DESCRIPTION:The City of La Mesa is developing a Recreation and Parks\n\nMaster Plan (Plan). The Plan will be a comprehensive\n\neffort dedicated to improving parks\, recreation\n\nprograms\, and services for La Mesa residents. This\n\nyear-long effort will help set the framework for\n\nfuture planning\, maintenance\, development\, and\n\nrehabilitation of city parks and facilities.\n\nYou are invited to attend to one of two\n\nupcoming workshops in April to learn\n\nabout how the existing park network\n\nis serving residents and help identify\n\npark and recreation needs. The City is\n\ncommitted to making the planning\n\nprocess a collaborative effort. The\n\ncontent of the two workshops\n\nwill be the same\, attend either\n\none.
X-ALT-DESC;FMTTYPE=text/html:The City of La Mesa is developing a Recreation and Parks<br />\nMaster Plan (Plan). The Plan will be a comprehensive<br />\neffort dedicated to improving parks\, recreation<br />\nprograms\, and services for La Mesa residents. This<br />\nyear-long effort will help set the framework for<br />\nfuture planning\, maintenance\, development\, and<br />\nrehabilitation of city parks and facilities.<br />\nYou are invited to attend to one of two<br />\nupcoming workshops in April to learn<br />\nabout how the existing park network<br />\nis serving residents and help identify<br />\npark and recreation needs. The City is<br />\ncommitted to making the planning<br />\nprocess a collaborative effort. The<br />\ncontent of the two workshops<br />\nwill be the same\, attend either<br />\none.
LOCATION:La Mesa Adult Enrichment Center 8450 La Mesa Blvd\, La Mesa\, CA 91942
UID:e.3024.1001
SEQUENCE:3
DTSTAMP:20260422T155827Z
URL:https://business.sdblackchamber.org/events/details/city-of-la-mesa-recreation-parks-master-plan-1001
END:VEVENT

END:VCALENDAR
