BEGIN:VCALENDAR
VERSION:2.0
PRODID:-//ChamberMaster//Event Calendar 2.0//EN
METHOD:PUBLISH
X-PUBLISHED-TTL:P3D
REFRESH-INTERVAL:P3D
CALSCALE:GREGORIAN
BEGIN:VEVENT
DTSTART:20230727T180000Z
DTEND:20230727T190000Z
X-MICROSOFT-CDO-ALLDAYEVENT:FALSE
SUMMARY:Business Power Hour
DESCRIPTION:Presenting the "Business Power Hour"   an exclusive initiative by the County of San Diego Black Chamber of Commerce. This platform is designed to serve as a potent launchpad where members can elevate their businesses\, highlight their services\, and forge robust networks with other Chamber members and esteemed guests. Get ready to tap into a universe of opportunities and ignite the next chapter of your business journey. Don't miss out!\n\n\n\n\nTo register visit: https://forms.gle/DVXSZtZriKtcqNMD9
X-ALT-DESC;FMTTYPE=text/html:<p class="p1" style="margin: 0px\; font-variant-numeric: normal\; font-variant-east-asian: normal\; font-variant-alternates: normal\; font-kerning: auto\; font-optical-sizing: auto\; font-feature-settings: normal\; font-variation-settings: normal\; font-stretch: normal\; line-height: normal\; font-family: &quot\;Helvetica Neue&quot\;\; color: rgb(0\, 0\, 0)\;">Presenting the &quot\;Business Power Hour&quot\; &ndash\; an exclusive initiative by the County of San Diego Black Chamber of Commerce. This platform is designed to serve as a potent launchpad where members can elevate their businesses\, highlight their services\, and forge robust networks with other Chamber members and esteemed guests. Get ready to tap into a universe of opportunities and ignite the next chapter of your business journey. Don&#39\;t miss out!</p>\n<br />\n<br />\n<span style="color: rgb(87\, 87\, 87)\; font-family: Lato\, sans-serif\; font-size: 12px\; background-color: rgb(244\, 245\, 247)\;">To register visit:&nbsp\;</span>https://forms.gle/DVXSZtZriKtcqNMD9
LOCATION:UCSD Park & Market 1100 Market St. San Diego\, CA 92101
UID:e.3024.1216
SEQUENCE:3
DTSTAMP:20260422T142504Z
URL:https://business.sdblackchamber.org/events/details/business-power-hour-1216
END:VEVENT

END:VCALENDAR
