BEGIN:VCALENDAR
VERSION:2.0
PRODID:-//ChamberMaster//Event Calendar 2.0//EN
METHOD:PUBLISH
X-PUBLISHED-TTL:P3D
REFRESH-INTERVAL:P3D
CALSCALE:GREGORIAN
BEGIN:VEVENT
DTSTART:20230525T180000Z
DTEND:20230525T190000Z
X-MICROSOFT-CDO-ALLDAYEVENT:FALSE
SUMMARY:Business Power Hour
DESCRIPTION:Introducing "Business Power Hour" by the County of San Diego Black Chamber of Commerce   the ideal platform for members to promote their businesses\, services\, and establish meaningful connections with fellow Chamber members and guests. \n\n\n\nJoin our FREE meetings and expand your network\, build trust\, and form lasting referral partnerships with like-minded professionals. \n\n\n\nMaximize your networking experience by scheduling one-on-one meetings after each event\, diving deeper into each other's businesses and driving valuable referrals   the core purpose of our networking group.\n\n\n\nTo register visit: https://forms.gle/1z1bSBvV5YRCDbwf7
X-ALT-DESC;FMTTYPE=text/html:<span style="color: rgb(87\, 87\, 87)\; font-family: Lato\, sans-serif\; font-size: 12px\; background-color: rgb(244\, 245\, 247)\;">Introducing &quot\;Business Power Hour&quot\; by the County of San Diego Black Chamber of Commerce &ndash\; the ideal platform for members to promote their businesses\, services\, and establish meaningful connections with fellow Chamber members and guests.&nbsp\;</span><br style="box-sizing: border-box\; margin: 0px\; padding: 0px\; color: rgb(87\, 87\, 87)\; font-family: Lato\, sans-serif\; font-size: 12px\; background-color: rgb(244\, 245\, 247)\;" />\n<br style="box-sizing: border-box\; margin: 0px\; padding: 0px\; color: rgb(87\, 87\, 87)\; font-family: Lato\, sans-serif\; font-size: 12px\; background-color: rgb(244\, 245\, 247)\;" />\n<span style="color: rgb(87\, 87\, 87)\; font-family: Lato\, sans-serif\; font-size: 12px\; background-color: rgb(244\, 245\, 247)\;">Join our FREE meetings and expand your network\, build trust\, and form lasting referral partnerships with like-minded professionals.&nbsp\;</span><br style="box-sizing: border-box\; margin: 0px\; padding: 0px\; color: rgb(87\, 87\, 87)\; font-family: Lato\, sans-serif\; font-size: 12px\; background-color: rgb(244\, 245\, 247)\;" />\n<br style="box-sizing: border-box\; margin: 0px\; padding: 0px\; color: rgb(87\, 87\, 87)\; font-family: Lato\, sans-serif\; font-size: 12px\; background-color: rgb(244\, 245\, 247)\;" />\n<span style="color: rgb(87\, 87\, 87)\; font-family: Lato\, sans-serif\; font-size: 12px\; background-color: rgb(244\, 245\, 247)\;">Maximize your networking experience by scheduling one-on-one meetings after each event\, diving deeper into each other&#39\;s businesses and driving valuable referrals &ndash\; the core purpose of our networking group.<br />\n<br />\nTo register visit:&nbsp\;</span><a href="https://forms.gle/1z1bSBvV5YRCDbwf7">https://forms.gle/1z1bSBvV5YRCDbwf7</a>
LOCATION:UCSD Park & Market 1100 Market St. San Diego\, CA 92101
UID:e.3024.1206
SEQUENCE:3
DTSTAMP:20260422T155416Z
URL:https://business.sdblackchamber.org/events/details/business-power-hour-1206
END:VEVENT

END:VCALENDAR
