BEGIN:VCALENDAR
VERSION:2.0
PRODID:-//ChamberMaster//Event Calendar 2.0//EN
METHOD:PUBLISH
X-PUBLISHED-TTL:P3D
REFRESH-INTERVAL:P3D
CALSCALE:GREGORIAN
BEGIN:VEVENT
DTSTART:20230422T010000Z
DTEND:20230422T030000Z
X-MICROSOFT-CDO-ALLDAYEVENT:FALSE
SUMMARY:Black Friday at METE
DESCRIPTION:Get ready for another fantastic Friday at our weekly Black Friday series! Head over to METE in downtown San Diego this Friday from 5pm-8pm for a fun-filled happy hour event.  Network with like-minded individuals\, kick back after a hectic week\, and delight in tasty food and drinks in an upbeat atmosphere. We can't wait to see you there!
X-ALT-DESC;FMTTYPE=text/html:<span style="color: rgb(87\, 87\, 87)\; font-family: Lato\, sans-serif\; font-size: 12px\; background-color: rgb(244\, 245\, 247)\;">Get ready for another fantastic Friday at our weekly Black Friday series! Head over to METE in downtown San Diego this Friday from 5pm-8pm for a fun-filled happy hour event.&nbsp\; Network with like-minded individuals\, kick back after a hectic week\, and delight in tasty food and drinks in an upbeat atmosphere. We can&#39\;t wait to see you there!</span>
LOCATION:METE 905 Fourth Ave San Diego\, CA 92101
UID:e.3024.1003
SEQUENCE:3
DTSTAMP:20260422T155448Z
URL:https://business.sdblackchamber.org/events/details/black-friday-at-mete-04-21-2023-1003
END:VEVENT

END:VCALENDAR
