BEGIN:VCALENDAR
VERSION:2.0
PRODID:-//ChamberMaster//Event Calendar 2.0//EN
METHOD:PUBLISH
X-PUBLISHED-TTL:P3D
REFRESH-INTERVAL:P3D
CALSCALE:GREGORIAN
BEGIN:VEVENT
DTSTART:20230729T190000Z
DTEND:20230730T000000Z
X-MICROSOFT-CDO-ALLDAYEVENT:FALSE
SUMMARY:Black Cultural Arts District
DESCRIPTION:The Mental Bar presents\n\nBlack Cultural Arts District Brainstorming Session\n\nJuly 29\n\n12pm\n\n6325 Imperial Ave. \n\nSan Diego\, California
X-ALT-DESC;FMTTYPE=text/html:<strong>The Mental Bar presents</strong><br />\nBlack Cultural Arts District Brainstorming Session<br />\nJuly 29<br />\n12pm<br />\n6325 Imperial Ave.&nbsp\;<br />\nSan Diego\, California
LOCATION:6325 Imperial Ave. San Diego\, California
UID:e.3024.1215
SEQUENCE:3
DTSTAMP:20260422T142550Z
URL:https://business.sdblackchamber.org/events/details/black-cultural-arts-district-1215
END:VEVENT

END:VCALENDAR
