BEGIN:VCALENDAR
VERSION:2.0
PRODID:-//ChamberMaster//Event Calendar 2.0//EN
METHOD:PUBLISH
X-PUBLISHED-TTL:P3D
REFRESH-INTERVAL:P3D
CALSCALE:GREGORIAN
BEGIN:VEVENT
DTSTART:20210826T010000Z
DTEND:20210826T060000Z
X-MICROSOFT-CDO-ALLDAYEVENT:FALSE
SUMMARY:August Mixer (Hosted by SDCHCC)
DESCRIPTION:Tonight!\n\n\n\nTake advantage of your Strategic Alliance membership to attend this exciting event. (Limited\, last-minute free tickets are still available.)\n\n\n\nDon't let the venue sway you away from a fun filled evening of great music and the amazing food of Birria Kings.  We look forward to seeing you there. \n\n\n\nThree of San Diego's largest ethnic chambers of commerce (ABASD\, CSDBCC\, SDHCC) are partnered in a Strategic Alliance. Contact your own chamber about attending events hosted by any of the three chambers.
X-ALT-DESC;FMTTYPE=text/html:<span style="font-size:16px\;"><strong>Tonight!</strong><br />\n<br />\nTake advantage of your Strategic Alliance membership to attend this exciting event. (Limited\, last-minute free tickets are still available.)<br />\n<br />\nDon&#39\;t let the venue sway you away from a fun filled evening of great music and the amazing food of Birria Kings.&nbsp\; We look forward to seeing you there.&nbsp\;<br />\n<br />\nThree of San Diego&#39\;s largest ethnic chambers of commerce (ABASD\, CSDBCC\, SDHCC) are partnered in a Strategic Alliance. Contact your own chamber about attending events hosted by any of the three chambers.</span>
LOCATION:Las Tres Catrinas (H St. Chula Vista Mall)
UID:e.3024.191
SEQUENCE:3
DTSTAMP:20260425T224727Z
URL:https://business.sdblackchamber.org/events/details/august-mixer-hosted-by-sdchcc-191
END:VEVENT

END:VCALENDAR
