BEGIN:VCALENDAR
VERSION:2.0
PRODID:-//ChamberMaster//Event Calendar 2.0//EN
METHOD:PUBLISH
X-PUBLISHED-TTL:P3D
REFRESH-INTERVAL:P3D
CALSCALE:GREGORIAN
BEGIN:VEVENT
DTSTART:20260221T170000Z
DTEND:20260221T220000Z
X-MICROSOFT-CDO-ALLDAYEVENT:FALSE
SUMMARY:AI For Small Business Workshop Presented by Brian Westpoint
DESCRIPTION:Hosted in partnership by Sankara Connects\, the Jacobs Center for Neighborhood Innovation\, the CSDBCC\, and the Diamond BID.  Join us to learn how to utilize the new age technology of AI to support your business with minor tasks all the way up to major developments! Ethical AI systems specialist Brian Westpoint will be teaching the workshop and giving his insight on how these techniques will lead to success.
X-ALT-DESC;FMTTYPE=text/html:<span style="font-size:24px\;"><span style="color: rgb(0\, 0\, 0)\; font-family: Helvetica\; text-align: justify\;">Hosted in partnership by Sankara Connects\, the Jacobs Center for Neighborhood Innovation\, the CSDBCC\, and the Diamond BID.&nbsp\;&nbsp\;Join us to learn how to utilize the new age technology of AI to support your business with minor tasks all the way up to major developments! Ethical AI systems specialist Brian Westpoint will be teaching the workshop and giving his insight on how these techniques will lead to success.</span></span>
LOCATION:The workshop will be at The Festivals Park Office located at 336 Euclid Ave San Diego\, CA 92114 Suite 502 .
UID:e.3024.1299
SEQUENCE:3
DTSTAMP:20260423T165913Z
URL:https://business.sdblackchamber.org/events/details/ai-for-small-business-workshop-presented-by-brian-westpoint-1299
END:VEVENT

END:VCALENDAR
