BEGIN:VCALENDAR
VERSION:2.0
PRODID:-//ChamberMaster//Event Calendar 2.0//EN
METHOD:PUBLISH
X-PUBLISHED-TTL:P3D
REFRESH-INTERVAL:P3D
CALSCALE:GREGORIAN
BEGIN:VEVENT
DTSTART:20230321T003000Z
DTEND:20230321T033000Z
X-MICROSOFT-CDO-ALLDAYEVENT:FALSE
SUMMARY:Afrofuturism Dream Tank SD 2323
DESCRIPTION:Join us for an Afrofuturism Dream Tank at the University Club\, that walks us creatively through the past and present with an eye toward the future using meditation\, virtual reality\, poetry\, and art culminating with a Dream Tank Dinner* and Discourse at Sunset. Please note: Afrofuturism is inclusive futurism and all who share in the desire for an inclusive and equitable future are welcome.\n\nThis is the 1st fundraiser for Grio'neers\, a new 501(c)3 nonprofit organization focused on engineering a better future through storytelling and action. C ome prepared to set and possibly share intentions for the coming year. Prior to the adoption of the Gregorian calendar\, many cultures considered the first day of Spring the beginning of the New Year.\n\nAfrofuturism Dream Tank is a framework for strategic planning created and first facilitated in San Diego\, CA by Dr. LaWana Richmond in 2018. Projects to be supported by this organization include Afrofuturism Lounge and Afro Con (the Afrofuturism Consciousness Convention).\n\nA frofuturism Art Exhibition and Silent Auction featuring Harp Angel - Robin Edmonds on Harp and art from Maxx Moses\, Kimberly Phillips Pea\, Tony Washington\, Ashley Nadeeka\, Brandon "Fubar" Flowers\, Jason "133 Art" Reeves\, Aubree Rose\, Toni Van Sluytman\, and just added - Zig Wharton.\n\n Artless' featuring reading by Winston Shaw\, GTET Media\n\nV R Experience: Traveling While Black\, Courtesy of Origami Air\n\nSunset Soundbath Meditation led by Faatima Harley\, Chocolate Yoga\n\nDestinations\n\nD ream Together - Dinner and Discourse led by Dr. Richmond\n\n*Menu options will include consideration of low sodium\, vegan\, and vegetarian dietary restrictions.\n\n*Dress Code at University Club - please come dressed to reflect yourself within the constraints of the club. Think eclectic\, chic\, artful\, and fun.\n\nD irect all inquiries to: LaWana@firyali.com\n\n\n\nCLICK HERE TO BUY TICKETS
X-ALT-DESC;FMTTYPE=text/html:<p style="margin: 0px\; padding: 0px\; box-sizing: border-box\; color: rgb(111\, 114\, 135)\; font-size: 16px\; line-height: 1.5rem\; font-family: &quot\;Neue Plak&quot\;\, -apple-system\, BlinkMacSystemFont\, Roboto\, &quot\;Helvetica Neue&quot\;\, Helvetica\, Tahoma\, Arial\, sans-serif\;">Join us for an Afrofuturism Dream Tank<span style="font-weight: 700\; box-sizing: border-box\; padding-top: 0px\;"><em style="box-sizing: border-box\; padding-top: 0px\;">&nbsp\;at</em></span><em style="box-sizing: border-box\;">&nbsp\;the&nbsp\;</em><a href="https://www.sandiego.org/members/venues/the-university-club-atop-symphony-towers/meetings.aspx" rel="nofollow noopener noreferrer" style="background-color: transparent\; text-decoration-line: none\; color: rgb(54\, 89\, 227)\; cursor: pointer\; box-sizing: border-box\;" target="_blank"><span style="font-weight: 700\; box-sizing: border-box\; padding-top: 0px\;"><em style="box-sizing: border-box\; padding-top: 0px\;">University Club</em></span></a><em style="box-sizing: border-box\;">\,&nbsp\;</em>that walks us creatively through the past and present with an eye toward the future using meditation\, virtual reality\, poetry\, and art culminating with a&nbsp\;<em style="box-sizing: border-box\;">Dream Tank Dinner* and Discourse at Sunset</em>. Please note: Afrofuturism is inclusive futurism and all who share in the desire for an inclusive and equitable future are welcome.</p>\n\n<p style="margin: 0px\; padding: 10px 0px 0px\; box-sizing: border-box\; color: rgb(111\, 114\, 135)\; font-size: 16px\; line-height: 1.5rem\; font-family: &quot\;Neue Plak&quot\;\, -apple-system\, BlinkMacSystemFont\, Roboto\, &quot\;Helvetica Neue&quot\;\, Helvetica\, Tahoma\, Arial\, sans-serif\;">This is the 1st fundraiser for&nbsp\;<a href="https://firyali.com/grioneers" rel="nofollow noopener noreferrer" style="background-color: transparent\; text-decoration-line: none\; color: rgb(54\, 89\, 227)\; cursor: pointer\; box-sizing: border-box\; padding-top: 0px\;" target="_blank"><span style="font-weight: 700\; box-sizing: border-box\; padding-top: 0px\;">Grio&#39\;neers</span></a>\, a new 501(c)3 nonprofit organization focused on engineering a better future through storytelling and action. C&#65279\;ome prepared to set and possibly share intentions for the coming year. Prior to the adoption of the Gregorian calendar\, many cultures considered the first day of Spring the beginning of the New Year.</p>\n\n<p style="margin: 0px\; padding: 10px 0px 0px\; box-sizing: border-box\; color: rgb(111\, 114\, 135)\; font-size: 16px\; line-height: 1.5rem\; font-family: &quot\;Neue Plak&quot\;\, -apple-system\, BlinkMacSystemFont\, Roboto\, &quot\;Helvetica Neue&quot\;\, Helvetica\, Tahoma\, Arial\, sans-serif\;">Afrofuturism Dream Tank is a framework for strategic planning created and first facilitated in San Diego\, CA by&nbsp\;<a href="https://drlawana.com/" rel="nofollow noopener noreferrer" style="background-color: transparent\; text-decoration-line: none\; color: rgb(54\, 89\, 227)\; cursor: pointer\; box-sizing: border-box\; padding-top: 0px\;" target="_blank"><span style="font-weight: 700\; box-sizing: border-box\; padding-top: 0px\;">Dr. LaWana Richmond</span></a>&nbsp\;in 2018. Projects to be supported&nbsp\;by this organization include Afrofuturism Lounge and Afro Con (the Afrofuturism Consciousness Convention).</p>\n\n<p style="margin: 0px\; padding: 10px 0px 0px\; box-sizing: border-box\; color: rgb(111\, 114\, 135)\; font-size: 16px\; line-height: 1.5rem\; font-family: &quot\;Neue Plak&quot\;\, -apple-system\, BlinkMacSystemFont\, Roboto\, &quot\;Helvetica Neue&quot\;\, Helvetica\, Tahoma\, Arial\, sans-serif\;"><span style="font-weight: 700\; box-sizing: border-box\; padding-top: 0px\;">A&#65279\;frofuturism</span>&nbsp\;Art Exhibition and Silent Auction featuring<span style="font-weight: 700\; box-sizing: border-box\;">&nbsp\;Harp Angel - Robin Edmonds on Harp and art from Maxx Moses\, Kimberly Phillips Pea\, Tony Washington\, Ashley Nadeeka\, Brandon &quot\;Fubar&quot\; Flowers\, Jason &quot\;133 Art&quot\; Reeves\, Aubree Rose\, Toni Van Sluytman\, and just added - Zig Wharton.</span></p>\n\n<p style="margin: 0px\; padding: 10px 0px 0px\; box-sizing: border-box\; color: rgb(111\, 114\, 135)\; font-size: 16px\; line-height: 1.5rem\; font-family: &quot\;Neue Plak&quot\;\, -apple-system\, BlinkMacSystemFont\, Roboto\, &quot\;Helvetica Neue&quot\;\, Helvetica\, Tahoma\, Arial\, sans-serif\;">&#65279\;Artless&#39\; featuring reading by&nbsp\;<span style="font-weight: 700\; box-sizing: border-box\; padding-top: 0px\;">Winston Shaw\,&nbsp\;</span><a href="https://www.greaterthanequaltoo.com/" rel="nofollow noopener noreferrer" style="background-color: transparent\; text-decoration-line: none\; color: rgb(54\, 89\, 227)\; cursor: pointer\; box-sizing: border-box\;" target="_blank"><span style="font-weight: 700\; box-sizing: border-box\; padding-top: 0px\;">GTET Media</span></a></p>\n\n<p style="margin: 0px\; padding: 10px 0px 0px\; box-sizing: border-box\; color: rgb(111\, 114\, 135)\; font-size: 16px\; line-height: 1.5rem\; font-family: &quot\;Neue Plak&quot\;\, -apple-system\, BlinkMacSystemFont\, Roboto\, &quot\;Helvetica Neue&quot\;\, Helvetica\, Tahoma\, Arial\, sans-serif\;">V&#65279\;R Experience:&nbsp\;<a href="https://youtube.com/watch?v=eg8XlfChttc&amp\;feature=shares" rel="nofollow noopener noreferrer" style="background-color: transparent\; text-decoration-line: none\; color: rgb(54\, 89\, 227)\; cursor: pointer\; box-sizing: border-box\; padding-top: 0px\;" target="_blank"><span style="font-weight: 700\; box-sizing: border-box\; padding-top: 0px\;">Traveling While Black</span></a><span style="font-weight: 700\; box-sizing: border-box\;">\,</span>&nbsp\;Courtesy of&nbsp\;<a href="https://origami-air.com/" rel="nofollow noopener noreferrer" style="background-color: transparent\; text-decoration-line: none\; color: rgb(54\, 89\, 227)\; cursor: pointer\; box-sizing: border-box\;" target="_blank"><span style="font-weight: 700\; box-sizing: border-box\; padding-top: 0px\;">Origami Air</span></a></p>\n\n<p style="margin: 0px\; padding: 10px 0px 0px\; box-sizing: border-box\; color: rgb(111\, 114\, 135)\; font-size: 16px\; line-height: 1.5rem\; font-family: &quot\;Neue Plak&quot\;\, -apple-system\, BlinkMacSystemFont\, Roboto\, &quot\;Helvetica Neue&quot\;\, Helvetica\, Tahoma\, Arial\, sans-serif\;">Sunset Soundbath Meditation led by&nbsp\;<span style="font-weight: 700\; box-sizing: border-box\; padding-top: 0px\;">Faatima Harley\,&nbsp\;</span><a href="https://chocolateyogadestinations.com/" rel="nofollow noopener noreferrer" style="background-color: transparent\; text-decoration-line: none\; color: rgb(54\, 89\, 227)\; cursor: pointer\; box-sizing: border-box\;" target="_blank"><span style="font-weight: 700\; box-sizing: border-box\; padding-top: 0px\;">Chocolate Yoga</span></a></p>\n\n<p style="margin: 0px\; padding: 10px 0px 0px\; box-sizing: border-box\; color: rgb(111\, 114\, 135)\; font-size: 16px\; line-height: 1.5rem\; font-family: &quot\;Neue Plak&quot\;\, -apple-system\, BlinkMacSystemFont\, Roboto\, &quot\;Helvetica Neue&quot\;\, Helvetica\, Tahoma\, Arial\, sans-serif\;"><a href="https://chocolateyogadestinations.com/" rel="nofollow noopener noreferrer" style="background-color: transparent\; text-decoration-line: none\; color: rgb(54\, 89\, 227)\; cursor: pointer\; box-sizing: border-box\; padding-top: 0px\;" target="_blank"><span style="font-weight: 700\; box-sizing: border-box\; padding-top: 0px\;">Destinations</span></a></p>\n\n<p style="margin: 0px\; padding: 10px 0px 0px\; box-sizing: border-box\; color: rgb(111\, 114\, 135)\; font-size: 16px\; line-height: 1.5rem\; font-family: &quot\;Neue Plak&quot\;\, -apple-system\, BlinkMacSystemFont\, Roboto\, &quot\;Helvetica Neue&quot\;\, Helvetica\, Tahoma\, Arial\, sans-serif\;">D&#65279\;ream Together - Dinner and Discourse led by&nbsp\;<a href="https://drlawana.com/" rel="nofollow noopener noreferrer" style="background-color: transparent\; text-decoration-line: none\; color: rgb(54\, 89\, 227)\; cursor: pointer\; box-sizing: border-box\; padding-top: 0px\;" target="_blank"><span style="font-weight: 700\; box-sizing: border-box\; padding-top: 0px\;">Dr. Richmond</span></a></p>\n\n<p style="margin: 0px\; padding: 10px 0px 0px\; box-sizing: border-box\; color: rgb(111\, 114\, 135)\; font-size: 16px\; line-height: 1.5rem\; font-family: &quot\;Neue Plak&quot\;\, -apple-system\, BlinkMacSystemFont\, Roboto\, &quot\;Helvetica Neue&quot\;\, Helvetica\, Tahoma\, Arial\, sans-serif\;"><span style="font-weight: 700\; box-sizing: border-box\; padding-top: 0px\;">*Menu options will include consideration of low sodium\, vegan\, and vegetarian dietary restrictions.</span></p>\n\n<p style="margin: 0px\; padding: 10px 0px 0px\; box-sizing: border-box\; color: rgb(111\, 114\, 135)\; font-size: 16px\; line-height: 1.5rem\; font-family: &quot\;Neue Plak&quot\;\, -apple-system\, BlinkMacSystemFont\, Roboto\, &quot\;Helvetica Neue&quot\;\, Helvetica\, Tahoma\, Arial\, sans-serif\;"><span style="font-weight: 700\; box-sizing: border-box\; padding-top: 0px\;">*</span><a href="https://www.invitedclubs.com/clubs/university-club-atop-symphony-towers/our-story/dress-code#:~:text=Smart%20casual%20with%20the%20exception\,on%20the%20Club%20online%20calendar." rel="nofollow noopener noreferrer" style="background-color: transparent\; text-decoration-line: none\; color: rgb(54\, 89\, 227)\; cursor: pointer\; box-sizing: border-box\;" target="_blank"><span style="font-weight: 700\; box-sizing: border-box\; padding-top: 0px\;">Dress Code</span></a><span style="font-weight: 700\; box-sizing: border-box\;">&nbsp\;at University Club - please come dressed to reflect yourself within the constraints of the club. Think eclectic\, chic\, artful\, and fun.</span></p>\n\n<p style="margin: 0px\; padding: 10px 0px 0px\; box-sizing: border-box\; color: rgb(111\, 114\, 135)\; font-size: 16px\; line-height: 1.5rem\; font-family: &quot\;Neue Plak&quot\;\, -apple-system\, BlinkMacSystemFont\, Roboto\, &quot\;Helvetica Neue&quot\;\, Helvetica\, Tahoma\, Arial\, sans-serif\;"><span style="font-weight: 700\; box-sizing: border-box\; padding-top: 0px\;">D&#65279\;irect all inquiries to: LaWana@firyali.com</span><br />\n<br />\n<a href="https://www.eventbrite.com/e/afrofuturism-dream-tank-sd-2323-tickets-478891676897"><strong>CLICK HERE TO BUY TICKETS</strong></a></p>\n
LOCATION:University Club Atop Symphony Towers 750 B Street #Suite #3400 San Diego\, CA 92101
UID:e.3024.999
SEQUENCE:3
DTSTAMP:20260422T172651Z
URL:https://business.sdblackchamber.org/events/details/afrofuturism-dream-tank-sd-2323-999
END:VEVENT

END:VCALENDAR
