BEGIN:VCALENDAR
VERSION:2.0
PRODID:-//ChamberMaster//Event Calendar 2.0//EN
METHOD:PUBLISH
X-PUBLISHED-TTL:P3D
REFRESH-INTERVAL:P3D
CALSCALE:GREGORIAN
BEGIN:VEVENT
DTSTART:20230401T010000Z
DTEND:20230401T030000Z
X-MICROSOFT-CDO-ALLDAYEVENT:FALSE
SUMMARY:A Woman's Worth
DESCRIPTION:Celebrating a Woman's Worth   Her Story\n\n\n\nA Woman's Worth: recognizing women and women-owned businesses in San Diego.\nDate: March 31\, 2023\n\nDoors: 5:15PM\n\nHours: 6PM - 8PM\n\nDress code: Business Casual\n\nLocation: \n\nUCSD Park & Market \n\n1100 Market Street\, \n\nSan Diego CA 92101\n\n\nThis event will feature a panel discussion\, entertainment\, food\, and networking opportunities\, hosted by Emmy award-winning reporter Natay Holmes.\n\n\n\n\n\n\n\nWe are thrilled to introduce our honorees for the event:\n\n	Rockette Ewell - California Regional Manager\, Community Affairs\, U.S. Bank\n	Monica Montgomery Steppe - District 4\, Council President Pro Tem\, City of San Diego\n	Julie Coker - President\, Tourism Authority\, named one of the top 25 Most Influential Black Women in Business\n	C.J. Smith - CEO\, Revenue Boss\n	Kea Hagan - Director of Administration and Programs\, Urban League of San Diego County\n\n\n\n\n\nIn addition to the honorees\, we have a panel of accomplished women who will share their insights and experiences:\n\n \n\n	Dr. Sheryl White - Psychologist\, OD Practitioners\, and Executive Coach\n	Jeanine McLean - President of MBK Entertainment\, Inc.\n	Marshaun Olaniyan - Relationship Strategist\n\n\n\nDon't miss this opportunity to celebrate the achievements and worth of women in San Diego. Join us for an inspiring and empowering event!\n\n\n\n\n\n SOLD OUT
X-ALT-DESC;FMTTYPE=text/html:<span style="font-size:12px\;"><strong>Celebrating a Woman&rsquo\;s Worth &ndash\; Her Story</strong></span><br />\n<br />\n<span style="font-size:26px\;">A Woman&rsquo\;s Worth: recognizing women and women-owned businesses in San Diego.</span>\n<div style="box-sizing: border-box\; color: rgb(33\, 37\, 41)\; font-family: -apple-system\, BlinkMacSystemFont\, &quot\;Segoe UI&quot\;\, Roboto\, &quot\;Helvetica Neue&quot\;\, Arial\, &quot\;Noto Sans&quot\;\, &quot\;Liberation Sans&quot\;\, sans-serif\, &quot\;Apple Color Emoji&quot\;\, &quot\;Segoe UI Emoji&quot\;\, &quot\;Segoe UI Symbol&quot\;\, &quot\;Noto Color Emoji&quot\;\; font-size: 16px\;"><span style="box-sizing: border-box\; font-weight: bolder\; color: rgb(224\, 0\, 255)\;">Date:</span>&nbsp\;March 31\, 2023</div>\n\n<div style="box-sizing: border-box\; color: rgb(33\, 37\, 41)\; font-family: -apple-system\, BlinkMacSystemFont\, &quot\;Segoe UI&quot\;\, Roboto\, &quot\;Helvetica Neue&quot\;\, Arial\, &quot\;Noto Sans&quot\;\, &quot\;Liberation Sans&quot\;\, sans-serif\, &quot\;Apple Color Emoji&quot\;\, &quot\;Segoe UI Emoji&quot\;\, &quot\;Segoe UI Symbol&quot\;\, &quot\;Noto Color Emoji&quot\;\; font-size: 16px\;"><span style="box-sizing: border-box\; font-weight: bolder\; color: rgb(224\, 0\, 255)\;">Doors:</span>&nbsp\;5:15PM<br style="box-sizing: border-box\;" />\n<span style="box-sizing: border-box\; font-weight: bolder\; color: rgb(224\, 0\, 255)\;">Hours:</span>&nbsp\;6PM - 8PM<br style="box-sizing: border-box\;" />\n<span style="box-sizing: border-box\; font-weight: bolder\; color: rgb(224\, 0\, 255)\;">Dress code:&nbsp\;</span>Business Casual</div>\n\n<div style="box-sizing: border-box\; color: rgb(33\, 37\, 41)\; font-family: -apple-system\, BlinkMacSystemFont\, &quot\;Segoe UI&quot\;\, Roboto\, &quot\;Helvetica Neue&quot\;\, Arial\, &quot\;Noto Sans&quot\;\, &quot\;Liberation Sans&quot\;\, sans-serif\, &quot\;Apple Color Emoji&quot\;\, &quot\;Segoe UI Emoji&quot\;\, &quot\;Segoe UI Symbol&quot\;\, &quot\;Noto Color Emoji&quot\;\; font-size: 16px\;"><span style="box-sizing: border-box\; font-weight: bolder\; color: rgb(224\, 0\, 255)\;">Location:&nbsp\;</span></div>\n\n<div style="box-sizing: border-box\; color: rgb(33\, 37\, 41)\; font-family: -apple-system\, BlinkMacSystemFont\, &quot\;Segoe UI&quot\;\, Roboto\, &quot\;Helvetica Neue&quot\;\, Arial\, &quot\;Noto Sans&quot\;\, &quot\;Liberation Sans&quot\;\, sans-serif\, &quot\;Apple Color Emoji&quot\;\, &quot\;Segoe UI Emoji&quot\;\, &quot\;Segoe UI Symbol&quot\;\, &quot\;Noto Color Emoji&quot\;\; font-size: 16px\;">UCSD Park &amp\; Market&nbsp\;</div>\n\n<div style="box-sizing: border-box\; color: rgb(33\, 37\, 41)\; font-family: -apple-system\, BlinkMacSystemFont\, &quot\;Segoe UI&quot\;\, Roboto\, &quot\;Helvetica Neue&quot\;\, Arial\, &quot\;Noto Sans&quot\;\, &quot\;Liberation Sans&quot\;\, sans-serif\, &quot\;Apple Color Emoji&quot\;\, &quot\;Segoe UI Emoji&quot\;\, &quot\;Segoe UI Symbol&quot\;\, &quot\;Noto Color Emoji&quot\;\; font-size: 16px\;">1100 Market Street\,&nbsp\;</div>\n\n<div style="box-sizing: border-box\; color: rgb(33\, 37\, 41)\; font-family: -apple-system\, BlinkMacSystemFont\, &quot\;Segoe UI&quot\;\, Roboto\, &quot\;Helvetica Neue&quot\;\, Arial\, &quot\;Noto Sans&quot\;\, &quot\;Liberation Sans&quot\;\, sans-serif\, &quot\;Apple Color Emoji&quot\;\, &quot\;Segoe UI Emoji&quot\;\, &quot\;Segoe UI Symbol&quot\;\, &quot\;Noto Color Emoji&quot\;\; font-size: 16px\;">San Diego CA 92101</div>\n<br />\nThis event will feature a panel discussion\, entertainment\, food\, and networking opportunities\, hosted by Emmy award-winning reporter Natay Holmes.<br />\n<br />\n<br />\n<br />\nWe are thrilled to introduce our honorees for the event:\n<ul>\n	<li><strong>Rockette Ewell </strong>- California Regional Manager\, Community Affairs\, U.S. Bank</li>\n	<li><strong>Monica Montgomery Steppe</strong> - District 4\, Council President Pro Tem\, City of San Diego</li>\n	<li><strong>Julie Coker</strong> - President\, Tourism Authority\, named one of the top 25 Most Influential Black Women in Business</li>\n	<li><strong>C.J. Smith</strong> - CEO\, Revenue Boss</li>\n	<li><strong>Kea Hagan </strong>- Director of Administration and Programs\, Urban League of San Diego County</li>\n</ul>\n<br />\n<br />\nIn addition to the honorees\, we have a panel of accomplished women who will share their insights and experiences:<br />\n&nbsp\;\n<ul>\n	<li><strong>Dr. Sheryl White</strong> - Psychologist\, OD Practitioners\, and Executive Coach</li>\n	<li><strong>Jeanine McLean</strong> - President of MBK Entertainment\, Inc.</li>\n	<li><strong>Marshaun Olaniyan</strong> - Relationship Strategist</li>\n</ul>\n<br />\nDon&#39\;t miss this opportunity to celebrate the achievements and worth of women in San Diego. Join us for an inspiring and empowering event!<br />\n<br />\n<br />\n<span style="font-size:36px\;"><strong><span style="text-align: center\;">&nbsp\;SOLD OUT</span></strong></span>
LOCATION:UCSD Park and Market
UID:e.3024.996
SEQUENCE:3
DTSTAMP:20260422T172252Z
URL:https://business.sdblackchamber.org/events/details/a-woman-s-worth-996
END:VEVENT

END:VCALENDAR
