BEGIN:VCALENDAR
VERSION:2.0
PRODID:-//ChamberMaster//Event Calendar 2.0//EN
METHOD:PUBLISH
X-PUBLISHED-TTL:P3D
REFRESH-INTERVAL:P3D
CALSCALE:GREGORIAN
BEGIN:VEVENT
DTSTART;VALUE=DATE:20230619
DTEND;VALUE=DATE:20230620
TRANSP:TRANSPARENT
X-MICROSOFT-CDO-ALLDAYEVENT:TRUE
SUMMARY:3rd Annual Juneteenth Charity Golf Tournament
DESCRIPTION:It is with great pleasure and excitement that Black Tech Link\, in partnership with The San Diego Black Golfer's Association\, invites you to save the date for our 3rd Annual Juneteenth Charity Golf Tournament? scheduled for Monday\, June 19\, 2023 at the beautiful Lomas Santa Fe Country Club in Solana Beach\, CA!\n\n\n\nJuneteenth became a federal holiday in 2021 commemorating the emancipation of illegally enslaved African Americans. Also known as "Freedom Day"\, The historical legacy of Juneteenth shows the value of never giving up hope and the resiliency of Black communities across America.\n\n\n\nTo celebrate Juneteenth\, the focus of this year's event is teaching the underserved communities of San Diego the technical skills of STEM and how to turn their ideas into profitable businesses. You can now support our cause by participating in our Charity Golf Tournament. Join us and be a part of our team of athletes\, leaders\, business professionals\, and private citizens deeply committed to changing the lives of the women and children in our city.\n\n\n\nWho Benefits:\n\n\n\nThe Tournament will benefit two stellar community organizations: Black Tech Link and Paving Great Futures. We celebrate our community and youth by providing vital education\, mentoring and life skills\, and college preparation right here in San Diego. 100% of all monies raised from this event are earmarked for these programs!!!\n\n\n\nThe event will host over 150 guests that will tee off overlooking the North Coastal region in San Diego County. Attendees will have the opportunity to enjoy a delicious breakfast\, complimentary lunch\, 18 hole golf course\, reception and award recognition dinner\, and after party networking. Women golfers are highly encouraged to play.\n\n\n\nTo register please visit juneteenthcharitygolftournament.com! For sponsorship opportunities please email elizabeth@blacktechlink.org\n\n\n\nWe look forward to seeing you there!
X-ALT-DESC;FMTTYPE=text/html:<span style="color:rgba(0\, 0\, 0\, 0.9)\; font-family:-apple-system\,system-ui\,system-ui\,segoe ui\,roboto\,helvetica neue\,fira sans\,ubuntu\,oxygen\,oxygen sans\,cantarell\,droid sans\,apple color emoji\,segoe ui emoji\,segoe ui emoji\,segoe ui symbol\,lucida grande\,helvetica\,arial\,sans-serif\; font-size:14px">It is with great pleasure and excitement that <a href="https://blacktechlink.org">Black Tech Link</a>\, in partnership with The San Diego Black Golfer&rsquo\;s Association\, invites you to save the date for our <em><strong>3rd Annual Juneteenth Charity Golf Tournament?</strong></em> scheduled for Monday\, June 19\, 2023 at the beautiful Lomas Santa Fe Country Club in Solana Beach\, CA!</span><br />\n<br />\n<span style="color:rgba(0\, 0\, 0\, 0.9)\; font-family:-apple-system\,system-ui\,system-ui\,segoe ui\,roboto\,helvetica neue\,fira sans\,ubuntu\,oxygen\,oxygen sans\,cantarell\,droid sans\,apple color emoji\,segoe ui emoji\,segoe ui emoji\,segoe ui symbol\,lucida grande\,helvetica\,arial\,sans-serif\; font-size:14px">Juneteenth became a federal holiday in 2021 commemorating the emancipation of illegally enslaved African Americans. Also known as &ldquo\;Freedom Day&rdquo\;\, The historical legacy of Juneteenth shows the value of never giving up hope and the resiliency of Black communities across America.</span><br />\n<br />\n<span style="color:rgba(0\, 0\, 0\, 0.9)\; font-family:-apple-system\,system-ui\,system-ui\,segoe ui\,roboto\,helvetica neue\,fira sans\,ubuntu\,oxygen\,oxygen sans\,cantarell\,droid sans\,apple color emoji\,segoe ui emoji\,segoe ui emoji\,segoe ui symbol\,lucida grande\,helvetica\,arial\,sans-serif\; font-size:14px">To celebrate Juneteenth\, the focus of this year&rsquo\;s event is teaching the underserved communities of San Diego the technical skills of STEM and how to turn their ideas into profitable businesses. You can now support our cause by participating in our Charity Golf Tournament. Join us and be a part of our team of athletes\, leaders\, business professionals\, and private citizens deeply committed to changing the lives of the women and children in our city.</span><br />\n<br />\n<span style="color:rgba(0\, 0\, 0\, 0.9)\; font-family:-apple-system\,system-ui\,system-ui\,segoe ui\,roboto\,helvetica neue\,fira sans\,ubuntu\,oxygen\,oxygen sans\,cantarell\,droid sans\,apple color emoji\,segoe ui emoji\,segoe ui emoji\,segoe ui symbol\,lucida grande\,helvetica\,arial\,sans-serif\; font-size:14px">Who Benefits:</span><br />\n<br />\n<span style="color:rgba(0\, 0\, 0\, 0.9)\; font-family:-apple-system\,system-ui\,system-ui\,segoe ui\,roboto\,helvetica neue\,fira sans\,ubuntu\,oxygen\,oxygen sans\,cantarell\,droid sans\,apple color emoji\,segoe ui emoji\,segoe ui emoji\,segoe ui symbol\,lucida grande\,helvetica\,arial\,sans-serif\; font-size:14px">The Tournament will benefit two stellar community organizations: Black Tech Link and <a href="http://www.pavinggreatfutures.org/">Paving Great Futures</a>. We celebrate our community and youth by providing vital education\, mentoring and life skills\, and college preparation right here in San Diego. 100% of all monies raised from this event are earmarked for these programs!!!</span><br />\n<br />\n<span style="color:rgba(0\, 0\, 0\, 0.9)\; font-family:-apple-system\,system-ui\,system-ui\,segoe ui\,roboto\,helvetica neue\,fira sans\,ubuntu\,oxygen\,oxygen sans\,cantarell\,droid sans\,apple color emoji\,segoe ui emoji\,segoe ui emoji\,segoe ui symbol\,lucida grande\,helvetica\,arial\,sans-serif\; font-size:14px">The event will host over 150 guests that will tee off overlooking the North Coastal region in San Diego County. Attendees will have the opportunity to enjoy a delicious breakfast\, complimentary lunch\, 18 hole golf course\, reception and award recognition dinner\, and after party networking. Women golfers are highly encouraged to play.</span><br />\n<br />\n<span style="color:rgba(0\, 0\, 0\, 0.9)\; font-family:-apple-system\,system-ui\,system-ui\,segoe ui\,roboto\,helvetica neue\,fira sans\,ubuntu\,oxygen\,oxygen sans\,cantarell\,droid sans\,apple color emoji\,segoe ui emoji\,segoe ui emoji\,segoe ui symbol\,lucida grande\,helvetica\,arial\,sans-serif\; font-size:14px">To register please visit <a href="http://juneteenthcharitygolftournament.com">juneteenthcharitygolftournament.com</a>! For sponsorship opportunities please email <a href="mailto:Elizabeth@blacktechlink.org?subject=Golf%20Tournament%20Sponsorship%2FParticipation%20Inquiry">elizabeth@blacktechlink.org</a></span><br />\n<br />\n<span style="color:rgba(0\, 0\, 0\, 0.9)\; font-family:-apple-system\,system-ui\,system-ui\,segoe ui\,roboto\,helvetica neue\,fira sans\,ubuntu\,oxygen\,oxygen sans\,cantarell\,droid sans\,apple color emoji\,segoe ui emoji\,segoe ui emoji\,segoe ui symbol\,lucida grande\,helvetica\,arial\,sans-serif\; font-size:14px">We look forward to seeing you there!</span>
LOCATION:Lomas Santa Fe Golf Course 1505 Lomas Santa Fe Dr Solana Beach\, CA 92075
UID:e.3024.1209
SEQUENCE:3
DTSTAMP:20260422T124020Z
URL:https://business.sdblackchamber.org/events/details/3rd-annual-juneteenth-charity-golf-tournament-1209
END:VEVENT

END:VCALENDAR
