BEGIN:VCALENDAR
VERSION:2.0
PRODID:-//ChamberMaster//Event Calendar 2.0//EN
METHOD:PUBLISH
X-PUBLISHED-TTL:P3D
REFRESH-INTERVAL:P3D
CALSCALE:GREGORIAN
BEGIN:VEVENT
DTSTART:20260227T013000Z
DTEND:20260227T033000Z
X-MICROSOFT-CDO-ALLDAYEVENT:FALSE
SUMMARY:2026 Black Leaders of Influence presented by the CSDBCC(County of San Diego Black Chamber of Commerce) and SDBJ (San Diego Business Journal)
DESCRIPTION:Join the County of San Diego Black Chamber of Commerce\, in partnership with the San Diego Business Journal and proud supporting partner U.S. Bank\, for the 2026 Top 50 Black Leaders of Influence an inspiring celebration of the executives\, entrepreneurs\, and community leaders who are making a real impact across our region. This signature event brings together business and civic leaders for an evening of recognition\, connection\, and community as we spotlight those driving innovation\, economic growth\, and meaningful change throughout San Diego. Come celebrate excellence\, expand your network\, and be part of a powerful moment honoring the influence and future of Black leadership.
X-ALT-DESC;FMTTYPE=text/html:<span style="font-size:20px\;">Join the County of San Diego Black Chamber of Commerce\, in partnership with the <span class="hover:entity-accent entity-underline inline cursor-pointer align-baseline">San Diego Business Journal</span> and proud supporting partner <span class="hover:entity-accent entity-underline inline cursor-pointer align-baseline">U.S. Bank</span>\, for the 2026 <strong>Top 50&nbsp\;</strong><strong data-end="231" data-start="194"><strong>Black Leaders of Influence</strong>&nbsp\;</strong>an inspiring celebration of the executives\, entrepreneurs\, and community leaders who are making a real impact across our region. This signature event brings together business and civic leaders for an evening of recognition\, connection\, and community as we spotlight those driving innovation\, economic growth\, and meaningful change throughout San Diego. Come celebrate excellence\, expand your network\, and be part of a powerful moment honoring the influence and future of Black leadership.</span>
LOCATION:The event will take place at the University Club Atop Symphony Towers. A beautiful rooftop club home to where many prominent black figures network.
UID:e.3024.1300
SEQUENCE:3
DTSTAMP:20260423T183127Z
URL:https://business.sdblackchamber.org/events/details/2026-black-leaders-of-influence-presented-by-the-csdbcc-county-of-san-diego-black-chamber-of-commerce-and-sdbj-san-diego-business-journal-1300
END:VEVENT

END:VCALENDAR
