BEGIN:VCALENDAR
VERSION:2.0
PRODID:-//ChamberMaster//Event Calendar 2.0//EN
METHOD:PUBLISH
X-PUBLISHED-TTL:P3D
REFRESH-INTERVAL:P3D
CALSCALE:GREGORIAN
BEGIN:VEVENT
DTSTART:20230418T010000Z
DTEND:20230418T023000Z
X-MICROSOFT-CDO-ALLDAYEVENT:FALSE
SUMMARY:2023 INVESTMENT INSIGHTS
DESCRIPTION:Little Shifts Are Big Wins:\n\nHow to Strengthen Your Estate Planning through Values-Based Conversations\n\nwith Christina Lawrence & Tina Lovejoy\n\nDuring our time together\, we'll discuss why values conversations are an essential part of effective wealth transfer planning. We'll review a few simple principles that you can utilize with your own family\, no matter what your current planning looks like. We'll be reminded that it is never too late to incorporate these principles into our planning discussions.\n\n\n\nTopics we'll review during the chat:\n\n \n\n            Inheriting family wealth\n\n            Building a family legacy\n\n            Leaving a financial inheritance for your loved ones\n\n\n\nJoin us for an informal and informative evening!\n\nHosted by Christina Lawrence\, Wealth Management Advisor\, Signature Resources Capital Management \n\nTina Lovejoy\, Founder of Frameworks Facilitation LLC \n\n\n\n\n\nTina Lovejoy\n\nAs founder of Frameworks Facilitation LLC\, Tina Lovejoy facilitates family sessions\, retreats and workshops for families around the nation to communicate about inheritance\, estate planning\, next gen development\, business succession\, stewardship\, and family governance. She has worked with over 1\,500 clients and their family members to help them with the relational dynamics inherent in financial planning and wealth transfer. Tina regularly presents keynotes and workshops at national conferences. She also trains advisory teams around the nation in the areas of family dynamics and aligned planning.\n\n\n\nChristina Lawrence\n\nSignature Resources\, Wealth Management Advisor\n\nAs a third-generation Financial Services professional\, Christina puts a strong emphasis on facilitating communication between a client's family members. She enthusiastically encourages her clients to actively participate in important decisions\, such as defining a purpose for their family wealth\, philanthropic grant-making\, and each member's role in the management of family assets. Particular emphasis is placed on preparing "Next Gen" as stewards of their family's future. Her strategic thinking\, communication skills\, industry resources\, and inclusionary approach help guide her team to deliver enduring solutions that support her clients' best interests and long-term vision.\n\nRSVP to clawrence@srcmadvisors.com as space is limited.  24 hour cancellation policy.
X-ALT-DESC;FMTTYPE=text/html:<p align="center" style="color: rgb(34\, 34\, 34)\; font-family: Arial\, Helvetica\, sans-serif\; font-size: small\; text-align: center\; line-height: 18.9pt\; background-image: initial\; background-position: initial\; background-size: initial\; background-repeat: initial\; background-attachment: initial\; background-origin: initial\; background-clip: initial\; box-sizing: border-box\; margin: 0.9375rem\;"><b><i><span style="font-family: &quot\;inherit&quot\;\, serif\; color: rgb(51\, 51\, 51)\;">Little Shifts Are Big Wins:</span></i></b><br />\n<b><i><u><span style="font-size: 12pt\; font-family: &quot\;inherit&quot\;\, serif\; color: rgb(51\, 51\, 51)\;">How to Strengthen Your Estate Planning through Values-Based Conversations</span></u></i></b><br />\n<b><i><span style="font-family: &quot\;inherit&quot\;\, serif\; color: rgb(51\, 51\, 51)\;">with Christina Lawrence &amp\; Tina Lovejoy</span></i></b></p>\n\n<p align="center" style="color: rgb(34\, 34\, 34)\; font-family: Arial\, Helvetica\, sans-serif\; font-size: small\; text-align: center\; line-height: 18.9pt\; background-image: initial\; background-position: initial\; background-size: initial\; background-repeat: initial\; background-attachment: initial\; background-origin: initial\; background-clip: initial\; box-sizing: border-box\; margin: 0.9375rem\;"><span style="font-size: 10.5pt\; font-family: Roboto\; color: rgb(51\, 51\, 51)\;">During our time together\, we&#39\;ll discuss why values conversations are an essential part of effective wealth transfer planning. We&#39\;ll review a few simple principles that you can utilize with your own family\, no matter what your current planning looks like. We&#39\;ll be reminded that it is never too late to incorporate these principles into our planning discussions.<br />\n<br />\nTopics we&#39\;ll review during the chat:<br />\n&nbsp\;</span><br />\n<span style="font-size: 10.5pt\; font-family: Symbol\; color: rgb(51\, 51\, 51)\;">&sect\;</span><span style="font-size: 10.5pt\; font-family: &quot\;inherit&quot\;\, serif\; color: rgb(51\, 51\, 51)\;">&nbsp\;&nbsp\;&nbsp\;&nbsp\;&nbsp\;&nbsp\;&nbsp\;&nbsp\;&nbsp\;&nbsp\;&nbsp\;</span><span style="font-size: 10.5pt\; font-family: Roboto\; color: rgb(51\, 51\, 51)\;">Inheriting family wealth</span><br />\n<span style="font-size: 10.5pt\; font-family: Symbol\; color: rgb(51\, 51\, 51)\;">&sect\;</span><span style="font-size: 10.5pt\; font-family: &quot\;inherit&quot\;\, serif\; color: rgb(51\, 51\, 51)\;">&nbsp\;&nbsp\;&nbsp\;&nbsp\;&nbsp\;&nbsp\;&nbsp\;&nbsp\;&nbsp\;&nbsp\;&nbsp\;</span><span style="font-size: 10.5pt\; font-family: Roboto\; color: rgb(51\, 51\, 51)\;">Building a family legacy</span><br />\n<span style="font-size: 10.5pt\; font-family: Symbol\; color: rgb(51\, 51\, 51)\;">&sect\;</span><span style="font-size: 10.5pt\; font-family: &quot\;inherit&quot\;\, serif\; color: rgb(51\, 51\, 51)\;">&nbsp\;&nbsp\;&nbsp\;&nbsp\;&nbsp\;&nbsp\;&nbsp\;&nbsp\;&nbsp\;&nbsp\;&nbsp\;</span><span style="font-size: 10.5pt\; font-family: Roboto\; color: rgb(51\, 51\, 51)\;">Leaving a financial inheritance for your loved ones<br />\n<br />\nJoin us for an informal and informative evening!<br />\nHosted by Christina Lawrence\, Wealth Management Advisor\, Signature Resources Capital Management&nbsp\;<br />\nTina Lovejoy\, Founder of Frameworks Facilitation LLC&nbsp\;<br />\n<br />\n<br />\n<strong><u>Tina Lovejoy</u></strong><br />\nAs founder of Frameworks Facilitation LLC\, Tina Lovejoy facilitates family sessions\, retreats and workshops for families around the nation to communicate about inheritance\, estate planning\, next gen development\, business succession\, stewardship\, and family governance. She has worked with over 1\,500 clients and their family members to help them with the relational dynamics inherent in financial planning and wealth transfer. Tina regularly presents keynotes and workshops at national conferences. She also trains advisory teams around the nation in the areas of family dynamics and aligned planning.<br />\n<br />\n<strong><u>Christina Lawrence</u></strong><br />\nSignature Resources\, Wealth Management Advisor<br />\nAs a third-generation Financial Services professional\, Christina puts a strong emphasis on facilitating communication between a client&#39\;s family members. She enthusiastically encourages her clients to actively participate in important decisions\, such as defining a purpose for their family wealth\, philanthropic grant-making\, and each member&#39\;s role in the management of family assets. Particular emphasis is placed on preparing &quot\;Next Gen&quot\; as stewards of their family&#39\;s future. Her strategic thinking\, communication skills\, industry resources\, and inclusionary approach help guide her team to deliver enduring solutions that support her clients&#39\; best interests and long-term vision.</span></p>\n\n<p align="center" style="color: rgb(34\, 34\, 34)\; font-family: Arial\, Helvetica\, sans-serif\; font-size: small\; text-align: center\; line-height: 18.9pt\; background-image: initial\; background-position: initial\; background-size: initial\; background-repeat: initial\; background-attachment: initial\; background-origin: initial\; background-clip: initial\; box-sizing: border-box\; margin: 0.9375rem\;"><span style="font-size: 12pt\; font-family: &quot\;inherit&quot\;\, serif\; color: rgb(51\, 51\, 51)\;">RSVP&nbsp\;</span><span style="font-size: 12pt\; font-family: &quot\;inherit&quot\;\, serif\; color: black\;">to&nbsp\;<b><a href="mailto:clawrence@srcmadvisors.com" style="color: rgb(17\, 85\, 204)\;" target="_blank">clawrence@srcmadvisors.com</a></b>&nbsp\;</span><span style="font-size: 12pt\; font-family: &quot\;inherit&quot\;\, serif\; color: rgb(51\, 51\, 51)\;">as space is limited.&nbsp\; 24 hour cancellation policy.&nbsp\;</span></p>\n
LOCATION:The University Club\, 750 B Street\, 34th Fl\, San Diego\, CA 92101 @ 7th Avenue valet parking available
UID:e.3024.1000
SEQUENCE:3
DTSTAMP:20260422T155608Z
URL:https://business.sdblackchamber.org/events/details/2023-investment-insights-1000
END:VEVENT

END:VCALENDAR
