BEGIN:VCALENDAR
VERSION:2.0
PRODID:-//ChamberMaster//Event Calendar 2.0//EN
METHOD:PUBLISH
X-PUBLISHED-TTL:P3D
REFRESH-INTERVAL:P3D
CALSCALE:GREGORIAN
BEGIN:VEVENT
DTSTART:20230618T190000Z
DTEND:20230618T230000Z
X-MICROSOFT-CDO-ALLDAYEVENT:FALSE
SUMMARY:1st Annual La Mesa Juneteenth & Friends Jubilee
DESCRIPTION:Prepare for a day of spectacular festivity at La Mesa Juneteenth 2023! Experience a cultural extravaganza marked by exciting performances\, scrumptious local culinary delights\, and an enriching cultural immersion that captures the essence of our shared heritage.\n\nBlock June 18 in your calendar and join us as we honor the enduring spirit of resilience\, unity\, and freedom. Absorb the vibrant energy of our community and become part of this momentous celebration of history. This is one event you wouldn't want to miss! Stand united with us\, as we make history together!
X-ALT-DESC;FMTTYPE=text/html:<p style="line-height: 14px\; word-break: break-word\;">Prepare for a day of spectacular festivity at La Mesa Juneteenth 2023! Experience a cultural extravaganza marked by exciting performances\, scrumptious local culinary delights\, and an enriching cultural immersion that captures the essence of our shared heritage.</p>\n\n<p style="line-height: 14px\; word-break: break-word\;">Block June 18 in your calendar and join us as we honor the enduring spirit of resilience\, unity\, and freedom. Absorb the vibrant energy of our community and become part of this momentous celebration of history. This is one event you wouldn&#39\;t want to miss! Stand united with us\, as we make history together!</p>\n
LOCATION:MacArthur Park 4975 Memorial Dr La Mesa\, Ca
UID:e.3024.1212
SEQUENCE:3
DTSTAMP:20260422T142817Z
URL:https://business.sdblackchamber.org/events/details/1st-annual-la-mesa-juneteenth-friends-jubilee-1212
END:VEVENT

END:VCALENDAR
